BEGIN:VCALENDAR
VERSION:2.0
PRODID:-//KVC Meetjesland - ECPv6.15.20//NONSGML v1.0//EN
CALSCALE:GREGORIAN
METHOD:PUBLISH
X-ORIGINAL-URL:https://www.kvc-meetjesland.be
X-WR-CALDESC:Evenementen voor KVC Meetjesland
REFRESH-INTERVAL;VALUE=DURATION:PT1H
X-Robots-Tag:noindex
X-PUBLISHED-TTL:PT1H
BEGIN:VTIMEZONE
TZID:Europe/Brussels
BEGIN:DAYLIGHT
TZOFFSETFROM:+0100
TZOFFSETTO:+0200
TZNAME:CEST
DTSTART:20200329T010000
END:DAYLIGHT
BEGIN:STANDARD
TZOFFSETFROM:+0200
TZOFFSETTO:+0100
TZNAME:CET
DTSTART:20201025T010000
END:STANDARD
BEGIN:DAYLIGHT
TZOFFSETFROM:+0100
TZOFFSETTO:+0200
TZNAME:CEST
DTSTART:20210328T010000
END:DAYLIGHT
BEGIN:STANDARD
TZOFFSETFROM:+0200
TZOFFSETTO:+0100
TZNAME:CET
DTSTART:20211031T010000
END:STANDARD
BEGIN:DAYLIGHT
TZOFFSETFROM:+0100
TZOFFSETTO:+0200
TZNAME:CEST
DTSTART:20220327T010000
END:DAYLIGHT
BEGIN:STANDARD
TZOFFSETFROM:+0200
TZOFFSETTO:+0100
TZNAME:CET
DTSTART:20221030T010000
END:STANDARD
END:VTIMEZONE
BEGIN:VEVENT
DTSTART;TZID=Europe/Brussels:20210412T180000
DTEND;TZID=Europe/Brussels:20210412T190000
DTSTAMP:20260419T193535
CREATED:20210311T204210Z
LAST-MODIFIED:20210311T204210Z
UID:10000032-1618250400-1618254000@www.kvc-meetjesland.be
SUMMARY:BMX training
DESCRIPTION:
URL:https://www.kvc-meetjesland.be/evenement/bmx-training-3/2021-04-12/
LOCATION:BMX piste – Sport Vlaanderen\, Strandlaan 3\, Gent\, 9000\, België
END:VEVENT
BEGIN:VEVENT
DTSTART;TZID=Europe/Brussels:20210412T193000
DTEND;TZID=Europe/Brussels:20210412T210000
DTSTAMP:20260419T193535
CREATED:20210311T230300Z
LAST-MODIFIED:20210313T100737Z
UID:10000001-1618255800-1618261200@www.kvc-meetjesland.be
SUMMARY:Online: Ouders in de juiste versnelling
DESCRIPTION:
URL:https://www.kvc-meetjesland.be/evenement/online-ouders-in-de-juiste-versnelling/
CATEGORIES:Aspiranten,Miniemen
END:VEVENT
END:VCALENDAR