BEGIN:VCALENDAR
VERSION:2.0
PRODID:-//KVC Meetjesland - ECPv6.15.20//NONSGML v1.0//EN
CALSCALE:GREGORIAN
METHOD:PUBLISH
X-ORIGINAL-URL:https://www.kvc-meetjesland.be
X-WR-CALDESC:Evenementen voor KVC Meetjesland
REFRESH-INTERVAL;VALUE=DURATION:PT1H
X-Robots-Tag:noindex
X-PUBLISHED-TTL:PT1H
BEGIN:VTIMEZONE
TZID:Europe/Brussels
BEGIN:DAYLIGHT
TZOFFSETFROM:+0100
TZOFFSETTO:+0200
TZNAME:CEST
DTSTART:20200329T010000
END:DAYLIGHT
BEGIN:STANDARD
TZOFFSETFROM:+0200
TZOFFSETTO:+0100
TZNAME:CET
DTSTART:20201025T010000
END:STANDARD
BEGIN:DAYLIGHT
TZOFFSETFROM:+0100
TZOFFSETTO:+0200
TZNAME:CEST
DTSTART:20210328T010000
END:DAYLIGHT
BEGIN:STANDARD
TZOFFSETFROM:+0200
TZOFFSETTO:+0100
TZNAME:CET
DTSTART:20211031T010000
END:STANDARD
BEGIN:DAYLIGHT
TZOFFSETFROM:+0100
TZOFFSETTO:+0200
TZNAME:CEST
DTSTART:20220327T010000
END:DAYLIGHT
BEGIN:STANDARD
TZOFFSETFROM:+0200
TZOFFSETTO:+0100
TZNAME:CET
DTSTART:20221030T010000
END:STANDARD
END:VTIMEZONE
BEGIN:VEVENT
DTSTART;TZID=Europe/Brussels:20210415T183000
DTEND;TZID=Europe/Brussels:20210415T200000
DTSTAMP:20260419T181307
CREATED:20210311T194109Z
LAST-MODIFIED:20210311T195202Z
UID:10000069-1618511400-1618516800@www.kvc-meetjesland.be
SUMMARY:Wegtraining
DESCRIPTION:
URL:https://www.kvc-meetjesland.be/evenement/wegtraining-vws-regio-meetjesland-5/2021-04-15/
CATEGORIES:Aspiranten,Miniemen
END:VEVENT
BEGIN:VEVENT
DTSTART;TZID=Europe/Brussels:20210415T183000
DTEND;TZID=Europe/Brussels:20210415T200000
DTSTAMP:20260419T181307
CREATED:20210312T095210Z
LAST-MODIFIED:20210331T202301Z
UID:10000026-1618511400-1618516800@www.kvc-meetjesland.be
SUMMARY:Tijdrittraining
DESCRIPTION:
URL:https://www.kvc-meetjesland.be/evenement/tijdrittraining-2/2021-04-15/
LOCATION:Sportcomplex Flabbaert\, Prinsengoeddreef 33\, Knesselare
CATEGORIES:Nieuwelingen
END:VEVENT
END:VCALENDAR