BEGIN:VCALENDAR
VERSION:2.0
PRODID:-//KVC Meetjesland - ECPv6.15.20//NONSGML v1.0//EN
CALSCALE:GREGORIAN
METHOD:PUBLISH
X-ORIGINAL-URL:https://www.kvc-meetjesland.be
X-WR-CALDESC:Evenementen voor KVC Meetjesland
REFRESH-INTERVAL;VALUE=DURATION:PT1H
X-Robots-Tag:noindex
X-PUBLISHED-TTL:PT1H
BEGIN:VTIMEZONE
TZID:Europe/Brussels
BEGIN:DAYLIGHT
TZOFFSETFROM:+0100
TZOFFSETTO:+0200
TZNAME:CEST
DTSTART:20200329T010000
END:DAYLIGHT
BEGIN:STANDARD
TZOFFSETFROM:+0200
TZOFFSETTO:+0100
TZNAME:CET
DTSTART:20201025T010000
END:STANDARD
BEGIN:DAYLIGHT
TZOFFSETFROM:+0100
TZOFFSETTO:+0200
TZNAME:CEST
DTSTART:20210328T010000
END:DAYLIGHT
BEGIN:STANDARD
TZOFFSETFROM:+0200
TZOFFSETTO:+0100
TZNAME:CET
DTSTART:20211031T010000
END:STANDARD
BEGIN:DAYLIGHT
TZOFFSETFROM:+0100
TZOFFSETTO:+0200
TZNAME:CEST
DTSTART:20220327T010000
END:DAYLIGHT
BEGIN:STANDARD
TZOFFSETFROM:+0200
TZOFFSETTO:+0100
TZNAME:CET
DTSTART:20221030T010000
END:STANDARD
END:VTIMEZONE
BEGIN:VEVENT
DTSTART;TZID=Europe/Brussels:20210421T143000
DTEND;TZID=Europe/Brussels:20210421T170000
DTSTAMP:20260419T193102
CREATED:20210311T201338Z
LAST-MODIFIED:20210312T084211Z
UID:10000079-1619015400-1619024400@www.kvc-meetjesland.be
SUMMARY:Wegtraining VWS regio Meetjesland
DESCRIPTION:
URL:https://www.kvc-meetjesland.be/evenement/wegtraining-vws-regio-meetjesland-9/2021-04-21/
CATEGORIES:Junioren,Nieuwelingen
ATTACH;FMTTYPE=image/jpeg:https://www.kvc-meetjesland.be/wp-content/uploads/2020/10/training_weg_grt.jpg
END:VEVENT
BEGIN:VEVENT
DTSTART;TZID=Europe/Brussels:20210421T180000
DTEND;TZID=Europe/Brussels:20210421T193000
DTSTAMP:20260419T193102
CREATED:20210313T093736Z
LAST-MODIFIED:20210313T094405Z
UID:10000040-1619028000-1619033400@www.kvc-meetjesland.be
SUMMARY:BMX training
DESCRIPTION:
URL:https://www.kvc-meetjesland.be/evenement/bmx-training/
LOCATION:Sportcentrum Puyenbroeck\, Puidonkdreef 1\, Wachtebeke\, België
END:VEVENT
END:VCALENDAR