BEGIN:VCALENDAR
VERSION:2.0
PRODID:-//KVC Meetjesland - ECPv6.15.20//NONSGML v1.0//EN
CALSCALE:GREGORIAN
METHOD:PUBLISH
X-ORIGINAL-URL:https://www.kvc-meetjesland.be
X-WR-CALDESC:Evenementen voor KVC Meetjesland
REFRESH-INTERVAL;VALUE=DURATION:PT1H
X-Robots-Tag:noindex
X-PUBLISHED-TTL:PT1H
BEGIN:VTIMEZONE
TZID:Europe/Brussels
BEGIN:DAYLIGHT
TZOFFSETFROM:+0100
TZOFFSETTO:+0200
TZNAME:CEST
DTSTART:20200329T010000
END:DAYLIGHT
BEGIN:STANDARD
TZOFFSETFROM:+0200
TZOFFSETTO:+0100
TZNAME:CET
DTSTART:20201025T010000
END:STANDARD
BEGIN:DAYLIGHT
TZOFFSETFROM:+0100
TZOFFSETTO:+0200
TZNAME:CEST
DTSTART:20210328T010000
END:DAYLIGHT
BEGIN:STANDARD
TZOFFSETFROM:+0200
TZOFFSETTO:+0100
TZNAME:CET
DTSTART:20211031T010000
END:STANDARD
BEGIN:DAYLIGHT
TZOFFSETFROM:+0100
TZOFFSETTO:+0200
TZNAME:CEST
DTSTART:20220327T010000
END:DAYLIGHT
BEGIN:STANDARD
TZOFFSETFROM:+0200
TZOFFSETTO:+0100
TZNAME:CET
DTSTART:20221030T010000
END:STANDARD
END:VTIMEZONE
BEGIN:VEVENT
DTSTART;TZID=Europe/Brussels:20210519T143000
DTEND;TZID=Europe/Brussels:20210519T170000
DTSTAMP:20260419T180312
CREATED:20210311T201828Z
LAST-MODIFIED:20210311T201828Z
UID:10000085-1621434600-1621443600@www.kvc-meetjesland.be
SUMMARY:Wegtraining
DESCRIPTION:
URL:https://www.kvc-meetjesland.be/evenement/wegtraining-2/2021-05-19/
CATEGORIES:Junioren,Nieuwelingen
END:VEVENT
BEGIN:VEVENT
DTSTART;TZID=Europe/Brussels:20210519T180000
DTEND;TZID=Europe/Brussels:20210519T193000
DTSTAMP:20260419T180312
CREATED:20210313T094846Z
LAST-MODIFIED:20210313T094846Z
UID:10000152-1621447200-1621452600@www.kvc-meetjesland.be
SUMMARY:BMX training
DESCRIPTION:
URL:https://www.kvc-meetjesland.be/evenement/bmx-training-9/
LOCATION:Sportcentrum Puyenbroeck\, Puidonkdreef 1\, Wachtebeke\, België
END:VEVENT
END:VCALENDAR