BEGIN:VCALENDAR
VERSION:2.0
PRODID:-//KVC Meetjesland - ECPv6.15.20//NONSGML v1.0//EN
CALSCALE:GREGORIAN
METHOD:PUBLISH
X-ORIGINAL-URL:https://www.kvc-meetjesland.be
X-WR-CALDESC:Evenementen voor KVC Meetjesland
REFRESH-INTERVAL;VALUE=DURATION:PT1H
X-Robots-Tag:noindex
X-PUBLISHED-TTL:PT1H
BEGIN:VTIMEZONE
TZID:Europe/Brussels
BEGIN:DAYLIGHT
TZOFFSETFROM:+0100
TZOFFSETTO:+0200
TZNAME:CEST
DTSTART:20200329T010000
END:DAYLIGHT
BEGIN:STANDARD
TZOFFSETFROM:+0200
TZOFFSETTO:+0100
TZNAME:CET
DTSTART:20201025T010000
END:STANDARD
BEGIN:DAYLIGHT
TZOFFSETFROM:+0100
TZOFFSETTO:+0200
TZNAME:CEST
DTSTART:20210328T010000
END:DAYLIGHT
BEGIN:STANDARD
TZOFFSETFROM:+0200
TZOFFSETTO:+0100
TZNAME:CET
DTSTART:20211031T010000
END:STANDARD
BEGIN:DAYLIGHT
TZOFFSETFROM:+0100
TZOFFSETTO:+0200
TZNAME:CEST
DTSTART:20220327T010000
END:DAYLIGHT
BEGIN:STANDARD
TZOFFSETFROM:+0200
TZOFFSETTO:+0100
TZNAME:CET
DTSTART:20221030T010000
END:STANDARD
END:VTIMEZONE
BEGIN:VEVENT
DTSTART;TZID=Europe/Brussels:20210520T180000
DTEND;TZID=Europe/Brussels:20210520T190000
DTSTAMP:20260419T180246
CREATED:20210625T193520Z
LAST-MODIFIED:20210625T193520Z
UID:10000084-1621533600-1621537200@www.kvc-meetjesland.be
SUMMARY:BMX initiatie
DESCRIPTION:
URL:https://www.kvc-meetjesland.be/evenement/bmx-initiatie/
LOCATION:BMX parcours Knesselare\, Prinsengoeddreef 33\, Knesselare\, België
END:VEVENT
BEGIN:VEVENT
DTSTART;TZID=Europe/Brussels:20210520T183000
DTEND;TZID=Europe/Brussels:20210520T200000
DTSTAMP:20260419T180246
CREATED:20210311T200201Z
LAST-MODIFIED:20210506T054827Z
UID:10000041-1621535400-1621540800@www.kvc-meetjesland.be
SUMMARY:Wegtraining VWS regio Meetjesland
DESCRIPTION:Clubrenners mogen voor deze speciale gelegenheid een vriendje M/V broer en zus inviteren om deel te nemen aan de training. Mama’s – papa’s kunnen eveneens deelnemen aan een fietstochtje van +/- 20 km.
URL:https://www.kvc-meetjesland.be/evenement/wegtraining-vws-regio-meetjesland-7/
CATEGORIES:Aspiranten,Miniemen
END:VEVENT
BEGIN:VEVENT
DTSTART;TZID=Europe/Brussels:20210520T183000
DTEND;TZID=Europe/Brussels:20210520T200000
DTSTAMP:20260419T180246
CREATED:20210516T071744Z
LAST-MODIFIED:20210516T071744Z
UID:10000326-1621535400-1621540800@www.kvc-meetjesland.be
SUMMARY:waaier training
DESCRIPTION:“Van waar komt de wind”
URL:https://www.kvc-meetjesland.be/evenement/waaier-training/
CATEGORIES:Aspiranten
ATTACH;FMTTYPE=image/gif:https://www.kvc-meetjesland.be/wp-content/uploads/2021/05/waaier-trainig.gif
END:VEVENT
END:VCALENDAR