BEGIN:VCALENDAR
VERSION:2.0
PRODID:-//KVC Meetjesland - ECPv6.15.20//NONSGML v1.0//EN
CALSCALE:GREGORIAN
METHOD:PUBLISH
X-ORIGINAL-URL:https://www.kvc-meetjesland.be
X-WR-CALDESC:Evenementen voor KVC Meetjesland
REFRESH-INTERVAL;VALUE=DURATION:PT1H
X-Robots-Tag:noindex
X-PUBLISHED-TTL:PT1H
BEGIN:VTIMEZONE
TZID:Europe/Brussels
BEGIN:DAYLIGHT
TZOFFSETFROM:+0100
TZOFFSETTO:+0200
TZNAME:CEST
DTSTART:20200329T010000
END:DAYLIGHT
BEGIN:STANDARD
TZOFFSETFROM:+0200
TZOFFSETTO:+0100
TZNAME:CET
DTSTART:20201025T010000
END:STANDARD
BEGIN:DAYLIGHT
TZOFFSETFROM:+0100
TZOFFSETTO:+0200
TZNAME:CEST
DTSTART:20210328T010000
END:DAYLIGHT
BEGIN:STANDARD
TZOFFSETFROM:+0200
TZOFFSETTO:+0100
TZNAME:CET
DTSTART:20211031T010000
END:STANDARD
BEGIN:DAYLIGHT
TZOFFSETFROM:+0100
TZOFFSETTO:+0200
TZNAME:CEST
DTSTART:20220327T010000
END:DAYLIGHT
BEGIN:STANDARD
TZOFFSETFROM:+0200
TZOFFSETTO:+0100
TZNAME:CET
DTSTART:20221030T010000
END:STANDARD
END:VTIMEZONE
BEGIN:VEVENT
DTSTART;TZID=Europe/Brussels:20210522T090000
DTEND;TZID=Europe/Brussels:20210522T120000
DTSTAMP:20260419T180312
CREATED:20210530T131638Z
LAST-MODIFIED:20210530T131638Z
UID:10000331-1621674000-1621684800@www.kvc-meetjesland.be
SUMMARY:Wegtraining
DESCRIPTION:Regio Kruishoutem met Nokere Berg.
URL:https://www.kvc-meetjesland.be/evenement/wegtraining-11/
LOCATION:Sportcomplex Flabbaert\, Prinsengoeddreef 33\, Knesselare
CATEGORIES:Junioren,Nieuwelingen
END:VEVENT
BEGIN:VEVENT
DTSTART;TZID=Europe/Brussels:20210522T100000
DTEND;TZID=Europe/Brussels:20210522T180000
DTSTAMP:20260419T180312
CREATED:20210311T160531Z
LAST-MODIFIED:20210530T131113Z
UID:10000093-1621677600-1621706400@www.kvc-meetjesland.be
SUMMARY:Wedstrijd miniemen en aspiranten
DESCRIPTION:09.30 uur: Startdag meisjes – Meer meisjes op de fiets: clubmeisjes begeleiden zusjes\, vriendinnen voor een leuke fietstocht. \nOrganisatie afgelast: wedstrijden niet – professionele sporters mogen pas van start gaan op 9 juni.
URL:https://www.kvc-meetjesland.be/evenement/wedstrijd-miniemen-en-aspiranten/
LOCATION:Eentveldstraat\, Eentveldstraat\, Knesselare\, 9910\, België
CATEGORIES:Aspiranten,Miniemen
END:VEVENT
END:VCALENDAR