BEGIN:VCALENDAR
VERSION:2.0
PRODID:-//KVC Meetjesland - ECPv6.15.20//NONSGML v1.0//EN
CALSCALE:GREGORIAN
METHOD:PUBLISH
X-ORIGINAL-URL:https://www.kvc-meetjesland.be
X-WR-CALDESC:Evenementen voor KVC Meetjesland
REFRESH-INTERVAL;VALUE=DURATION:PT1H
X-Robots-Tag:noindex
X-PUBLISHED-TTL:PT1H
BEGIN:VTIMEZONE
TZID:Europe/Brussels
BEGIN:DAYLIGHT
TZOFFSETFROM:+0100
TZOFFSETTO:+0200
TZNAME:CEST
DTSTART:20200329T010000
END:DAYLIGHT
BEGIN:STANDARD
TZOFFSETFROM:+0200
TZOFFSETTO:+0100
TZNAME:CET
DTSTART:20201025T010000
END:STANDARD
BEGIN:DAYLIGHT
TZOFFSETFROM:+0100
TZOFFSETTO:+0200
TZNAME:CEST
DTSTART:20210328T010000
END:DAYLIGHT
BEGIN:STANDARD
TZOFFSETFROM:+0200
TZOFFSETTO:+0100
TZNAME:CET
DTSTART:20211031T010000
END:STANDARD
BEGIN:DAYLIGHT
TZOFFSETFROM:+0100
TZOFFSETTO:+0200
TZNAME:CEST
DTSTART:20220327T010000
END:DAYLIGHT
BEGIN:STANDARD
TZOFFSETFROM:+0200
TZOFFSETTO:+0100
TZNAME:CET
DTSTART:20221030T010000
END:STANDARD
END:VTIMEZONE
BEGIN:VEVENT
DTSTART;TZID=Europe/Brussels:20210305T190000
DTEND;TZID=Europe/Brussels:20210305T200000
DTSTAMP:20260420T215713
CREATED:20210311T225348Z
LAST-MODIFIED:20210312T083042Z
UID:10000010-1614970800-1614974400@www.kvc-meetjesland.be
SUMMARY:Online core stability
DESCRIPTION:
URL:https://www.kvc-meetjesland.be/evenement/online-core-stability-2/
CATEGORIES:Aspiranten,Junioren,Miniemen,Nieuwelingen
ATTACH;FMTTYPE=image/jpeg:https://www.kvc-meetjesland.be/wp-content/uploads/2021/03/core_stability.jpg
END:VEVENT
BEGIN:VEVENT
DTSTART;TZID=Europe/Brussels:20210307T100000
DTEND;TZID=Europe/Brussels:20210307T113000
DTSTAMP:20260420T215713
CREATED:20210312T101732Z
LAST-MODIFIED:20210312T162836Z
UID:10000013-1615111200-1615116600@www.kvc-meetjesland.be
SUMMARY:Wegtraining VWS regio Meetjesland
DESCRIPTION:Inoefenen Cycling Vlaanderen Proef.
URL:https://www.kvc-meetjesland.be/evenement/wegtraining-vws-regio-meetjesland-10/
LOCATION:Sportcomplex Flabbaert\, Prinsengoeddreef 33\, Knesselare
CATEGORIES:Aspiranten,Miniemen
END:VEVENT
BEGIN:VEVENT
DTSTART;TZID=Europe/Brussels:20210312T190000
DTEND;TZID=Europe/Brussels:20210312T200000
DTSTAMP:20260420T215713
CREATED:20210309T202438Z
LAST-MODIFIED:20210312T083130Z
UID:10000056-1615575600-1615579200@www.kvc-meetjesland.be
SUMMARY:online core stability
DESCRIPTION:
URL:https://www.kvc-meetjesland.be/evenement/online-core-stability/2021-03-12/
CATEGORIES:Aspiranten,Junioren,Miniemen,Nieuwelingen
ATTACH;FMTTYPE=image/jpeg:https://www.kvc-meetjesland.be/wp-content/uploads/2021/03/core_stability.jpg
END:VEVENT
BEGIN:VEVENT
DTSTART;TZID=Europe/Brussels:20210314T100000
DTEND;TZID=Europe/Brussels:20210314T113000
DTSTAMP:20260420T215713
CREATED:20210309T203143Z
LAST-MODIFIED:20210313T184439Z
UID:10000064-1615716000-1615721400@www.kvc-meetjesland.be
SUMMARY:Wegtraining VWS regio Meetjesland
DESCRIPTION:Inoefenen Cycling Vlaanderen Proef \nTraining voor miniemen wordt geannuleerd: sterke rukwinden verwacht\, veiligheid first.
URL:https://www.kvc-meetjesland.be/evenement/wegtraining-vws-regio-meetjesland-2/
CATEGORIES:Aspiranten,Miniemen
ATTACH;FMTTYPE=image/jpeg:https://www.kvc-meetjesland.be/wp-content/uploads/2020/07/kvc.jpg
END:VEVENT
BEGIN:VEVENT
DTSTART;TZID=Europe/Brussels:20210319T190000
DTEND;TZID=Europe/Brussels:20210319T200000
DTSTAMP:20260420T215713
CREATED:20210309T202438Z
LAST-MODIFIED:20210312T083130Z
UID:10000057-1616180400-1616184000@www.kvc-meetjesland.be
SUMMARY:online core stability
DESCRIPTION:
URL:https://www.kvc-meetjesland.be/evenement/online-core-stability/2021-03-19/
CATEGORIES:Aspiranten,Junioren,Miniemen,Nieuwelingen
ATTACH;FMTTYPE=image/jpeg:https://www.kvc-meetjesland.be/wp-content/uploads/2021/03/core_stability.jpg
END:VEVENT
BEGIN:VEVENT
DTSTART;TZID=Europe/Brussels:20210321T100000
DTEND;TZID=Europe/Brussels:20210321T113000
DTSTAMP:20260420T215713
CREATED:20210312T102338Z
LAST-MODIFIED:20210312T163136Z
UID:10000011-1616320800-1616326200@www.kvc-meetjesland.be
SUMMARY:Wegtraining VWS regio Meetjesland
DESCRIPTION:Inoefenen Cycling Vlaanderen Proef
URL:https://www.kvc-meetjesland.be/evenement/wegtraining-vws-regio-meetjesland-11/
LOCATION:Sportcomplex Flabbaert\, Prinsengoeddreef 33\, Knesselare
CATEGORIES:Aspiranten,Miniemen
END:VEVENT
BEGIN:VEVENT
DTSTART;TZID=Europe/Brussels:20210326T190000
DTEND;TZID=Europe/Brussels:20210326T200000
DTSTAMP:20260420T215713
CREATED:20210309T202438Z
LAST-MODIFIED:20210312T083130Z
UID:10000058-1616785200-1616788800@www.kvc-meetjesland.be
SUMMARY:online core stability
DESCRIPTION:
URL:https://www.kvc-meetjesland.be/evenement/online-core-stability/2021-03-26/
CATEGORIES:Aspiranten,Junioren,Miniemen,Nieuwelingen
ATTACH;FMTTYPE=image/jpeg:https://www.kvc-meetjesland.be/wp-content/uploads/2021/03/core_stability.jpg
END:VEVENT
BEGIN:VEVENT
DTSTART;TZID=Europe/Brussels:20210328T100000
DTEND;TZID=Europe/Brussels:20210328T113000
DTSTAMP:20260420T215713
CREATED:20210311T193611Z
LAST-MODIFIED:20210321T191058Z
UID:10000066-1616925600-1616931000@www.kvc-meetjesland.be
SUMMARY:Wegtraining VWS regio Meetjesland
DESCRIPTION:Klaar voor de start \nInoefenen Cycling Vlaanderen Proef
URL:https://www.kvc-meetjesland.be/evenement/wegtraining-vws-regio-meetjesland-4/
CATEGORIES:Aspiranten,Miniemen
END:VEVENT
END:VCALENDAR