BEGIN:VCALENDAR
VERSION:2.0
PRODID:-//KVC Meetjesland - ECPv6.15.20//NONSGML v1.0//EN
CALSCALE:GREGORIAN
METHOD:PUBLISH
X-WR-CALNAME:KVC Meetjesland
X-ORIGINAL-URL:https://www.kvc-meetjesland.be
X-WR-CALDESC:Evenementen voor KVC Meetjesland
REFRESH-INTERVAL;VALUE=DURATION:PT1H
X-Robots-Tag:noindex
X-PUBLISHED-TTL:PT1H
BEGIN:VTIMEZONE
TZID:Europe/Brussels
BEGIN:DAYLIGHT
TZOFFSETFROM:+0100
TZOFFSETTO:+0200
TZNAME:CEST
DTSTART:20200329T010000
END:DAYLIGHT
BEGIN:STANDARD
TZOFFSETFROM:+0200
TZOFFSETTO:+0100
TZNAME:CET
DTSTART:20201025T010000
END:STANDARD
BEGIN:DAYLIGHT
TZOFFSETFROM:+0100
TZOFFSETTO:+0200
TZNAME:CEST
DTSTART:20210328T010000
END:DAYLIGHT
BEGIN:STANDARD
TZOFFSETFROM:+0200
TZOFFSETTO:+0100
TZNAME:CET
DTSTART:20211031T010000
END:STANDARD
BEGIN:DAYLIGHT
TZOFFSETFROM:+0100
TZOFFSETTO:+0200
TZNAME:CEST
DTSTART:20220327T010000
END:DAYLIGHT
BEGIN:STANDARD
TZOFFSETFROM:+0200
TZOFFSETTO:+0100
TZNAME:CET
DTSTART:20221030T010000
END:STANDARD
END:VTIMEZONE
BEGIN:VEVENT
DTSTART;TZID=Europe/Brussels:20210328T100000
DTEND;TZID=Europe/Brussels:20210328T113000
DTSTAMP:20260421T045312
CREATED:20210311T193611Z
LAST-MODIFIED:20210321T191058Z
UID:10000066-1616925600-1616931000@www.kvc-meetjesland.be
SUMMARY:Wegtraining VWS regio Meetjesland
DESCRIPTION:Klaar voor de start \nInoefenen Cycling Vlaanderen Proef
URL:https://www.kvc-meetjesland.be/evenement/wegtraining-vws-regio-meetjesland-4/
CATEGORIES:Aspiranten,Miniemen
END:VEVENT
BEGIN:VEVENT
DTSTART;TZID=Europe/Brussels:20210401T183000
DTEND;TZID=Europe/Brussels:20210401T200000
DTSTAMP:20260421T045312
CREATED:20210312T102919Z
LAST-MODIFIED:20210312T163359Z
UID:10000031-1617301800-1617307200@www.kvc-meetjesland.be
SUMMARY:Wegtraining
DESCRIPTION:Inoefenen Cycling Vlaanderen Proef
URL:https://www.kvc-meetjesland.be/evenement/wegtraining-6/
LOCATION:Sportcomplex Flabbaert\, Prinsengoeddreef 33\, Knesselare
CATEGORIES:Aspiranten,Miniemen
END:VEVENT
BEGIN:VEVENT
DTSTART;TZID=Europe/Brussels:20210402T190000
DTEND;TZID=Europe/Brussels:20210402T200000
DTSTAMP:20260421T045312
CREATED:20210309T202438Z
LAST-MODIFIED:20210325T173701Z
UID:10000059-1617390000-1617393600@www.kvc-meetjesland.be
SUMMARY:online core stability
DESCRIPTION:Online core stability
URL:https://www.kvc-meetjesland.be/evenement/online-core-stability-2021-03-26/2021-04-02/
CATEGORIES:Aspiranten,Junioren,Miniemen,Nieuwelingen
ATTACH;FMTTYPE=image/jpeg:https://www.kvc-meetjesland.be/wp-content/uploads/2021/03/core_stability.jpg
END:VEVENT
BEGIN:VEVENT
DTSTART;TZID=Europe/Brussels:20210405T140000
DTEND;TZID=Europe/Brussels:20210405T180000
DTSTAMP:20260421T045312
CREATED:20210331T071855Z
LAST-MODIFIED:20210331T071855Z
UID:10000231-1617631200-1617645600@www.kvc-meetjesland.be
SUMMARY:Kasseitraining
DESCRIPTION:
URL:https://www.kvc-meetjesland.be/evenement/kasseitraining/
LOCATION:Randparking Oost\, Oude Sluissedujk 8340 Damme\, Oude Sluissedijk\, Damme\, West Vlaanderen\, 8340\, België
CATEGORIES:Beloften,Junioren,Miniemen
END:VEVENT
BEGIN:VEVENT
DTSTART;TZID=Europe/Brussels:20210408T183000
DTEND;TZID=Europe/Brussels:20210408T200000
DTSTAMP:20260421T045312
CREATED:20210311T194109Z
LAST-MODIFIED:20210311T195202Z
UID:10000068-1617906600-1617912000@www.kvc-meetjesland.be
SUMMARY:Wegtraining
DESCRIPTION:
URL:https://www.kvc-meetjesland.be/evenement/wegtraining-vws-regio-meetjesland-5/2021-04-08/
CATEGORIES:Aspiranten,Miniemen
END:VEVENT
BEGIN:VEVENT
DTSTART;TZID=Europe/Brussels:20210409T190000
DTEND;TZID=Europe/Brussels:20210409T200000
DTSTAMP:20260421T045312
CREATED:20210309T202438Z
LAST-MODIFIED:20210325T173701Z
UID:10000060-1617994800-1617998400@www.kvc-meetjesland.be
SUMMARY:online core stability
DESCRIPTION:Online core stability
URL:https://www.kvc-meetjesland.be/evenement/online-core-stability-2021-03-26/2021-04-09/
CATEGORIES:Aspiranten,Junioren,Miniemen,Nieuwelingen
ATTACH;FMTTYPE=image/jpeg:https://www.kvc-meetjesland.be/wp-content/uploads/2021/03/core_stability.jpg
END:VEVENT
BEGIN:VEVENT
DTSTART;TZID=Europe/Brussels:20210410T090000
DTEND;TZID=Europe/Brussels:20210410T120000
DTSTAMP:20260421T045312
CREATED:20210331T082919Z
LAST-MODIFIED:20210425T084609Z
UID:10000315-1618045200-1618056000@www.kvc-meetjesland.be
SUMMARY:Klimtraining Vlaamse Ardennen
DESCRIPTION:Gaat niet door wegens de weersomstandigheden.
URL:https://www.kvc-meetjesland.be/evenement/klimtraining-vlaamse-ardennen/
LOCATION:Oudenaarde\, De Ham\, Oudenaarde\, Oost-Vlaanderen\, 9700\, België
CATEGORIES:Beloften,Junioren,Miniemen
END:VEVENT
BEGIN:VEVENT
DTSTART;TZID=Europe/Brussels:20210411T100000
DTEND;TZID=Europe/Brussels:20210411T113000
DTSTAMP:20260421T045312
CREATED:20210331T070727Z
LAST-MODIFIED:20210331T070727Z
UID:10000197-1618135200-1618140600@www.kvc-meetjesland.be
SUMMARY:Wegtraining
DESCRIPTION:
URL:https://www.kvc-meetjesland.be/evenement/wegtraining-8/2021-04-11/
LOCATION:Sportcomplex Flabbaert\, Prinsengoeddreef 33\, Knesselare
CATEGORIES:Aspiranten,Miniemen
END:VEVENT
BEGIN:VEVENT
DTSTART;TZID=Europe/Brussels:20210412T193000
DTEND;TZID=Europe/Brussels:20210412T210000
DTSTAMP:20260421T045312
CREATED:20210311T230300Z
LAST-MODIFIED:20210313T100737Z
UID:10000001-1618255800-1618261200@www.kvc-meetjesland.be
SUMMARY:Online: Ouders in de juiste versnelling
DESCRIPTION:
URL:https://www.kvc-meetjesland.be/evenement/online-ouders-in-de-juiste-versnelling/
CATEGORIES:Aspiranten,Miniemen
END:VEVENT
BEGIN:VEVENT
DTSTART;TZID=Europe/Brussels:20210415T183000
DTEND;TZID=Europe/Brussels:20210415T200000
DTSTAMP:20260421T045312
CREATED:20210311T194109Z
LAST-MODIFIED:20210311T195202Z
UID:10000069-1618511400-1618516800@www.kvc-meetjesland.be
SUMMARY:Wegtraining
DESCRIPTION:
URL:https://www.kvc-meetjesland.be/evenement/wegtraining-vws-regio-meetjesland-5/2021-04-15/
CATEGORIES:Aspiranten,Miniemen
END:VEVENT
BEGIN:VEVENT
DTSTART;TZID=Europe/Brussels:20210416T190000
DTEND;TZID=Europe/Brussels:20210416T200000
DTSTAMP:20260421T045312
CREATED:20210309T202438Z
LAST-MODIFIED:20210325T173701Z
UID:10000061-1618599600-1618603200@www.kvc-meetjesland.be
SUMMARY:online core stability
DESCRIPTION:Online core stability
URL:https://www.kvc-meetjesland.be/evenement/online-core-stability-2021-03-26/2021-04-16/
CATEGORIES:Aspiranten,Junioren,Miniemen,Nieuwelingen
ATTACH;FMTTYPE=image/jpeg:https://www.kvc-meetjesland.be/wp-content/uploads/2021/03/core_stability.jpg
END:VEVENT
BEGIN:VEVENT
DTSTART;TZID=Europe/Brussels:20210417T103000
DTEND;TZID=Europe/Brussels:20210417T150000
DTSTAMP:20260421T045312
CREATED:20210331T073058Z
LAST-MODIFIED:20210331T083313Z
UID:10000232-1618655400-1618671600@www.kvc-meetjesland.be
SUMMARY:Klimtraining Ardennen
DESCRIPTION:
URL:https://www.kvc-meetjesland.be/evenement/klimtraining/
LOCATION:soumagne\, Rue de la Siroperie\, Soumagne\, Luik\, 4630\, België
CATEGORIES:Beloften,Junioren,Miniemen
END:VEVENT
BEGIN:VEVENT
DTSTART;TZID=Europe/Brussels:20210418T100000
DTEND;TZID=Europe/Brussels:20210418T113000
DTSTAMP:20260421T045312
CREATED:20210331T070727Z
LAST-MODIFIED:20210331T070727Z
UID:10000198-1618740000-1618745400@www.kvc-meetjesland.be
SUMMARY:Wegtraining
DESCRIPTION:
URL:https://www.kvc-meetjesland.be/evenement/wegtraining-8/2021-04-18/
LOCATION:Sportcomplex Flabbaert\, Prinsengoeddreef 33\, Knesselare
CATEGORIES:Aspiranten,Miniemen
END:VEVENT
BEGIN:VEVENT
DTSTART;TZID=Europe/Brussels:20210422T183000
DTEND;TZID=Europe/Brussels:20210422T200000
DTSTAMP:20260421T045312
CREATED:20210311T195833Z
LAST-MODIFIED:20210311T195833Z
UID:10000072-1619116200-1619121600@www.kvc-meetjesland.be
SUMMARY:Wegtraining VWS regio Meetjesland
DESCRIPTION:
URL:https://www.kvc-meetjesland.be/evenement/wegtraining-vws-regio-meetjesland-6/2021-04-22/
CATEGORIES:Aspiranten,Miniemen
END:VEVENT
BEGIN:VEVENT
DTSTART;TZID=Europe/Brussels:20210423T190000
DTEND;TZID=Europe/Brussels:20210423T200000
DTSTAMP:20260421T045312
CREATED:20210309T202438Z
LAST-MODIFIED:20210325T173701Z
UID:10000062-1619204400-1619208000@www.kvc-meetjesland.be
SUMMARY:online core stability
DESCRIPTION:Online core stability
URL:https://www.kvc-meetjesland.be/evenement/online-core-stability-2021-03-26/2021-04-23/
CATEGORIES:Aspiranten,Junioren,Miniemen,Nieuwelingen
ATTACH;FMTTYPE=image/jpeg:https://www.kvc-meetjesland.be/wp-content/uploads/2021/03/core_stability.jpg
END:VEVENT
BEGIN:VEVENT
DTSTART;TZID=Europe/Brussels:20210429T183000
DTEND;TZID=Europe/Brussels:20210429T200000
DTSTAMP:20260421T045312
CREATED:20210311T195833Z
LAST-MODIFIED:20210311T195833Z
UID:10000073-1619721000-1619726400@www.kvc-meetjesland.be
SUMMARY:Wegtraining VWS regio Meetjesland
DESCRIPTION:
URL:https://www.kvc-meetjesland.be/evenement/wegtraining-vws-regio-meetjesland-6/2021-04-29/
CATEGORIES:Aspiranten,Miniemen
END:VEVENT
BEGIN:VEVENT
DTSTART;TZID=Europe/Brussels:20210430T190000
DTEND;TZID=Europe/Brussels:20210430T200000
DTSTAMP:20260421T045312
CREATED:20210309T202438Z
LAST-MODIFIED:20210325T173701Z
UID:10000063-1619809200-1619812800@www.kvc-meetjesland.be
SUMMARY:online core stability
DESCRIPTION:Online core stability
URL:https://www.kvc-meetjesland.be/evenement/online-core-stability-2021-03-26/2021-04-30/
CATEGORIES:Aspiranten,Junioren,Miniemen,Nieuwelingen
ATTACH;FMTTYPE=image/jpeg:https://www.kvc-meetjesland.be/wp-content/uploads/2021/03/core_stability.jpg
END:VEVENT
BEGIN:VEVENT
DTSTART;TZID=Europe/Brussels:20210506T183000
DTEND;TZID=Europe/Brussels:20210506T200000
DTSTAMP:20260421T045312
CREATED:20210311T195833Z
LAST-MODIFIED:20210506T162110Z
UID:10000092-1620325800-1620331200@www.kvc-meetjesland.be
SUMMARY:Wegtraining VWS regio Meetjesland
DESCRIPTION:Training afgelast wegens koude en regen
URL:https://www.kvc-meetjesland.be/evenement/wegtraining-vws-regio-meetjesland-6-2021-05-06/
CATEGORIES:Aspiranten,Miniemen
END:VEVENT
BEGIN:VEVENT
DTSTART;TZID=Europe/Brussels:20210507T183000
DTEND;TZID=Europe/Brussels:20210507T193000
DTSTAMP:20260421T045312
CREATED:20210505T075451Z
LAST-MODIFIED:20210512T083541Z
UID:10000323-1620412200-1620415800@www.kvc-meetjesland.be
SUMMARY:Voorbereiding eerste competitiewedstrijd
DESCRIPTION:Training op behendigheid en techniek specifiek voor nieuwe rennertjes. \nWordt door de weersomstandigheden verplaats naar vrijdag 14 mei.
URL:https://www.kvc-meetjesland.be/evenement/voorbereiding-eerste-competitiewedstrijd/
LOCATION:Sportcomplex Flabbaert\, Prinsengoeddreef 33\, Knesselare
CATEGORIES:Miniemen
END:VEVENT
BEGIN:VEVENT
DTSTART;TZID=Europe/Brussels:20210520T183000
DTEND;TZID=Europe/Brussels:20210520T200000
DTSTAMP:20260421T045312
CREATED:20210311T200201Z
LAST-MODIFIED:20210506T054827Z
UID:10000041-1621535400-1621540800@www.kvc-meetjesland.be
SUMMARY:Wegtraining VWS regio Meetjesland
DESCRIPTION:Clubrenners mogen voor deze speciale gelegenheid een vriendje M/V broer en zus inviteren om deel te nemen aan de training. Mama’s – papa’s kunnen eveneens deelnemen aan een fietstochtje van +/- 20 km.
URL:https://www.kvc-meetjesland.be/evenement/wegtraining-vws-regio-meetjesland-7/
CATEGORIES:Aspiranten,Miniemen
END:VEVENT
BEGIN:VEVENT
DTSTART;TZID=Europe/Brussels:20210522T100000
DTEND;TZID=Europe/Brussels:20210522T180000
DTSTAMP:20260421T045312
CREATED:20210311T160531Z
LAST-MODIFIED:20210530T131113Z
UID:10000093-1621677600-1621706400@www.kvc-meetjesland.be
SUMMARY:Wedstrijd miniemen en aspiranten
DESCRIPTION:09.30 uur: Startdag meisjes – Meer meisjes op de fiets: clubmeisjes begeleiden zusjes\, vriendinnen voor een leuke fietstocht. \nOrganisatie afgelast: wedstrijden niet – professionele sporters mogen pas van start gaan op 9 juni.
URL:https://www.kvc-meetjesland.be/evenement/wedstrijd-miniemen-en-aspiranten/
LOCATION:Eentveldstraat\, Eentveldstraat\, Knesselare\, 9910\, België
CATEGORIES:Aspiranten,Miniemen
END:VEVENT
BEGIN:VEVENT
DTSTART;TZID=Europe/Brussels:20210527T183000
DTEND;TZID=Europe/Brussels:20210527T200000
DTSTAMP:20260421T045312
CREATED:20210311T200201Z
LAST-MODIFIED:20210506T053947Z
UID:10000043-1622140200-1622145600@www.kvc-meetjesland.be
SUMMARY:Wegtraining VWS regio Meetjesland
DESCRIPTION:
URL:https://www.kvc-meetjesland.be/evenement/wegtraining-vws-regio-meetjesland-7-2021-05-27/2021-05-27/
CATEGORIES:Aspiranten,Miniemen
END:VEVENT
BEGIN:VEVENT
DTSTART;TZID=Europe/Brussels:20210603T183000
DTEND;TZID=Europe/Brussels:20210603T200000
DTSTAMP:20260421T045312
CREATED:20210311T200201Z
LAST-MODIFIED:20210506T053947Z
UID:10000044-1622745000-1622750400@www.kvc-meetjesland.be
SUMMARY:Wegtraining VWS regio Meetjesland
DESCRIPTION:
URL:https://www.kvc-meetjesland.be/evenement/wegtraining-vws-regio-meetjesland-7-2021-05-27/2021-06-03/
CATEGORIES:Aspiranten,Miniemen
END:VEVENT
BEGIN:VEVENT
DTSTART;TZID=Europe/Brussels:20210610T183000
DTEND;TZID=Europe/Brussels:20210610T200000
DTSTAMP:20260421T045312
CREATED:20210311T200201Z
LAST-MODIFIED:20210506T053947Z
UID:10000045-1623349800-1623355200@www.kvc-meetjesland.be
SUMMARY:Wegtraining VWS regio Meetjesland
DESCRIPTION:
URL:https://www.kvc-meetjesland.be/evenement/wegtraining-vws-regio-meetjesland-7-2021-05-27/2021-06-10/
CATEGORIES:Aspiranten,Miniemen
END:VEVENT
BEGIN:VEVENT
DTSTART;TZID=Europe/Brussels:20210617T183000
DTEND;TZID=Europe/Brussels:20210617T200000
DTSTAMP:20260421T045312
CREATED:20210311T200201Z
LAST-MODIFIED:20210506T053947Z
UID:10000046-1623954600-1623960000@www.kvc-meetjesland.be
SUMMARY:Wegtraining VWS regio Meetjesland
DESCRIPTION:
URL:https://www.kvc-meetjesland.be/evenement/wegtraining-vws-regio-meetjesland-7-2021-05-27/2021-06-17/
CATEGORIES:Aspiranten,Miniemen
END:VEVENT
BEGIN:VEVENT
DTSTART;TZID=Europe/Brussels:20210620T100000
DTEND;TZID=Europe/Brussels:20210620T173000
DTSTAMP:20260421T045312
CREATED:20210530T131457Z
LAST-MODIFIED:20210530T131457Z
UID:10000330-1624183200-1624210200@www.kvc-meetjesland.be
SUMMARY:Wedstrijd miniemen - aspiranten
DESCRIPTION:Een organisatie van KVC ‘t Meetjesland
URL:https://www.kvc-meetjesland.be/evenement/wedstrijd-miniemen-aspiranten/
LOCATION:Eentveldstraat\, Eentveldstraat\, Knesselare\, 9910\, België
CATEGORIES:Aspiranten,Miniemen
END:VEVENT
BEGIN:VEVENT
DTSTART;TZID=Europe/Brussels:20210624T183000
DTEND;TZID=Europe/Brussels:20210624T200000
DTSTAMP:20260421T045312
CREATED:20210311T200201Z
LAST-MODIFIED:20210506T053947Z
UID:10000047-1624559400-1624564800@www.kvc-meetjesland.be
SUMMARY:Wegtraining VWS regio Meetjesland
DESCRIPTION:
URL:https://www.kvc-meetjesland.be/evenement/wegtraining-vws-regio-meetjesland-7-2021-05-27/2021-06-24/
CATEGORIES:Aspiranten,Miniemen
END:VEVENT
BEGIN:VEVENT
DTSTART;TZID=Europe/Brussels:20210701T183000
DTEND;TZID=Europe/Brussels:20210701T200000
DTSTAMP:20260421T045312
CREATED:20210713T093328Z
LAST-MODIFIED:20210713T093328Z
UID:10000424-1625164200-1625169600@www.kvc-meetjesland.be
SUMMARY:Wegtraining
DESCRIPTION:
URL:https://www.kvc-meetjesland.be/evenement/wegtraining-17/2021-07-01/
CATEGORIES:Aspiranten,Miniemen
END:VEVENT
BEGIN:VEVENT
DTSTART;TZID=Europe/Brussels:20210708T183000
DTEND;TZID=Europe/Brussels:20210708T200000
DTSTAMP:20260421T045312
CREATED:20210713T093328Z
LAST-MODIFIED:20210713T093328Z
UID:10000425-1625769000-1625774400@www.kvc-meetjesland.be
SUMMARY:Wegtraining
DESCRIPTION:
URL:https://www.kvc-meetjesland.be/evenement/wegtraining-17/2021-07-08/
CATEGORIES:Aspiranten,Miniemen
END:VEVENT
BEGIN:VEVENT
DTSTART;TZID=Europe/Brussels:20210715T183000
DTEND;TZID=Europe/Brussels:20210715T200000
DTSTAMP:20260421T045312
CREATED:20210713T093328Z
LAST-MODIFIED:20210713T093328Z
UID:10000426-1626373800-1626379200@www.kvc-meetjesland.be
SUMMARY:Wegtraining
DESCRIPTION:
URL:https://www.kvc-meetjesland.be/evenement/wegtraining-17/2021-07-15/
CATEGORIES:Aspiranten,Miniemen
END:VEVENT
END:VCALENDAR