BEGIN:VCALENDAR
VERSION:2.0
PRODID:-//KVC Meetjesland - ECPv6.15.20//NONSGML v1.0//EN
CALSCALE:GREGORIAN
METHOD:PUBLISH
X-WR-CALNAME:KVC Meetjesland
X-ORIGINAL-URL:https://www.kvc-meetjesland.be
X-WR-CALDESC:Evenementen voor KVC Meetjesland
REFRESH-INTERVAL;VALUE=DURATION:PT1H
X-Robots-Tag:noindex
X-PUBLISHED-TTL:PT1H
BEGIN:VTIMEZONE
TZID:Europe/Brussels
BEGIN:DAYLIGHT
TZOFFSETFROM:+0100
TZOFFSETTO:+0200
TZNAME:CEST
DTSTART:20200329T010000
END:DAYLIGHT
BEGIN:STANDARD
TZOFFSETFROM:+0200
TZOFFSETTO:+0100
TZNAME:CET
DTSTART:20201025T010000
END:STANDARD
BEGIN:DAYLIGHT
TZOFFSETFROM:+0100
TZOFFSETTO:+0200
TZNAME:CEST
DTSTART:20210328T010000
END:DAYLIGHT
BEGIN:STANDARD
TZOFFSETFROM:+0200
TZOFFSETTO:+0100
TZNAME:CET
DTSTART:20211031T010000
END:STANDARD
BEGIN:DAYLIGHT
TZOFFSETFROM:+0100
TZOFFSETTO:+0200
TZNAME:CEST
DTSTART:20220327T010000
END:DAYLIGHT
BEGIN:STANDARD
TZOFFSETFROM:+0200
TZOFFSETTO:+0100
TZNAME:CET
DTSTART:20221030T010000
END:STANDARD
END:VTIMEZONE
BEGIN:VEVENT
DTSTART;TZID=Europe/Brussels:20210527T183000
DTEND;TZID=Europe/Brussels:20210527T200000
DTSTAMP:20260420T213829
CREATED:20210311T200201Z
LAST-MODIFIED:20210506T053947Z
UID:10000043-1622140200-1622145600@www.kvc-meetjesland.be
SUMMARY:Wegtraining VWS regio Meetjesland
DESCRIPTION:
URL:https://www.kvc-meetjesland.be/evenement/wegtraining-vws-regio-meetjesland-7-2021-05-27/2021-05-27/
CATEGORIES:Aspiranten,Miniemen
END:VEVENT
BEGIN:VEVENT
DTSTART;TZID=Europe/Brussels:20210603T183000
DTEND;TZID=Europe/Brussels:20210603T200000
DTSTAMP:20260420T213829
CREATED:20210311T200201Z
LAST-MODIFIED:20210506T053947Z
UID:10000044-1622745000-1622750400@www.kvc-meetjesland.be
SUMMARY:Wegtraining VWS regio Meetjesland
DESCRIPTION:
URL:https://www.kvc-meetjesland.be/evenement/wegtraining-vws-regio-meetjesland-7-2021-05-27/2021-06-03/
CATEGORIES:Aspiranten,Miniemen
END:VEVENT
BEGIN:VEVENT
DTSTART;TZID=Europe/Brussels:20210610T183000
DTEND;TZID=Europe/Brussels:20210610T200000
DTSTAMP:20260420T213829
CREATED:20210311T200201Z
LAST-MODIFIED:20210506T053947Z
UID:10000045-1623349800-1623355200@www.kvc-meetjesland.be
SUMMARY:Wegtraining VWS regio Meetjesland
DESCRIPTION:
URL:https://www.kvc-meetjesland.be/evenement/wegtraining-vws-regio-meetjesland-7-2021-05-27/2021-06-10/
CATEGORIES:Aspiranten,Miniemen
END:VEVENT
BEGIN:VEVENT
DTSTART;TZID=Europe/Brussels:20210617T183000
DTEND;TZID=Europe/Brussels:20210617T200000
DTSTAMP:20260420T213829
CREATED:20210311T200201Z
LAST-MODIFIED:20210506T053947Z
UID:10000046-1623954600-1623960000@www.kvc-meetjesland.be
SUMMARY:Wegtraining VWS regio Meetjesland
DESCRIPTION:
URL:https://www.kvc-meetjesland.be/evenement/wegtraining-vws-regio-meetjesland-7-2021-05-27/2021-06-17/
CATEGORIES:Aspiranten,Miniemen
END:VEVENT
BEGIN:VEVENT
DTSTART;TZID=Europe/Brussels:20210620T100000
DTEND;TZID=Europe/Brussels:20210620T173000
DTSTAMP:20260420T213829
CREATED:20210530T131457Z
LAST-MODIFIED:20210530T131457Z
UID:10000330-1624183200-1624210200@www.kvc-meetjesland.be
SUMMARY:Wedstrijd miniemen - aspiranten
DESCRIPTION:Een organisatie van KVC ‘t Meetjesland
URL:https://www.kvc-meetjesland.be/evenement/wedstrijd-miniemen-aspiranten/
LOCATION:Eentveldstraat\, Eentveldstraat\, Knesselare\, 9910\, België
CATEGORIES:Aspiranten,Miniemen
END:VEVENT
BEGIN:VEVENT
DTSTART;TZID=Europe/Brussels:20210624T183000
DTEND;TZID=Europe/Brussels:20210624T200000
DTSTAMP:20260420T213829
CREATED:20210311T200201Z
LAST-MODIFIED:20210506T053947Z
UID:10000047-1624559400-1624564800@www.kvc-meetjesland.be
SUMMARY:Wegtraining VWS regio Meetjesland
DESCRIPTION:
URL:https://www.kvc-meetjesland.be/evenement/wegtraining-vws-regio-meetjesland-7-2021-05-27/2021-06-24/
CATEGORIES:Aspiranten,Miniemen
END:VEVENT
BEGIN:VEVENT
DTSTART;TZID=Europe/Brussels:20210701T183000
DTEND;TZID=Europe/Brussels:20210701T200000
DTSTAMP:20260420T213829
CREATED:20210713T093328Z
LAST-MODIFIED:20210713T093328Z
UID:10000424-1625164200-1625169600@www.kvc-meetjesland.be
SUMMARY:Wegtraining
DESCRIPTION:
URL:https://www.kvc-meetjesland.be/evenement/wegtraining-17/2021-07-01/
CATEGORIES:Aspiranten,Miniemen
END:VEVENT
BEGIN:VEVENT
DTSTART;TZID=Europe/Brussels:20210708T183000
DTEND;TZID=Europe/Brussels:20210708T200000
DTSTAMP:20260420T213829
CREATED:20210713T093328Z
LAST-MODIFIED:20210713T093328Z
UID:10000425-1625769000-1625774400@www.kvc-meetjesland.be
SUMMARY:Wegtraining
DESCRIPTION:
URL:https://www.kvc-meetjesland.be/evenement/wegtraining-17/2021-07-08/
CATEGORIES:Aspiranten,Miniemen
END:VEVENT
BEGIN:VEVENT
DTSTART;TZID=Europe/Brussels:20210715T183000
DTEND;TZID=Europe/Brussels:20210715T200000
DTSTAMP:20260420T213829
CREATED:20210713T093328Z
LAST-MODIFIED:20210713T093328Z
UID:10000426-1626373800-1626379200@www.kvc-meetjesland.be
SUMMARY:Wegtraining
DESCRIPTION:
URL:https://www.kvc-meetjesland.be/evenement/wegtraining-17/2021-07-15/
CATEGORIES:Aspiranten,Miniemen
END:VEVENT
BEGIN:VEVENT
DTSTART;TZID=Europe/Brussels:20210722T183000
DTEND;TZID=Europe/Brussels:20210722T200000
DTSTAMP:20260420T213829
CREATED:20210713T093328Z
LAST-MODIFIED:20210716T072203Z
UID:10000428-1626978600-1626984000@www.kvc-meetjesland.be
SUMMARY:Wegtraining
DESCRIPTION:Startdag meisjes: Speciale training – behendigheid / techniek – voor alle meisjes van het team en hun vriendinnen.
URL:https://www.kvc-meetjesland.be/evenement/wegtraining-17-2021-07-22/
CATEGORIES:Aspiranten,Miniemen
END:VEVENT
BEGIN:VEVENT
DTSTART;TZID=Europe/Brussels:20210729T183000
DTEND;TZID=Europe/Brussels:20210729T200000
DTSTAMP:20260420T213829
CREATED:20210713T093328Z
LAST-MODIFIED:20210713T093328Z
UID:10000427-1627583400-1627588800@www.kvc-meetjesland.be
SUMMARY:Wegtraining
DESCRIPTION:
URL:https://www.kvc-meetjesland.be/evenement/wegtraining-17/2021-07-29/
CATEGORIES:Aspiranten,Miniemen
END:VEVENT
BEGIN:VEVENT
DTSTART;TZID=Europe/Brussels:20211107T140000
DTEND;TZID=Europe/Brussels:20211107T160000
DTSTAMP:20260420T213829
CREATED:20211025T161320Z
LAST-MODIFIED:20211025T161320Z
UID:10000119-1636293600-1636300800@www.kvc-meetjesland.be
SUMMARY:Bosritje
DESCRIPTION:
URL:https://www.kvc-meetjesland.be/evenement/bosritje/
LOCATION:Maria-Aalter\, Sparhoekdreef\, Maria - Aalter\, 9880\, België
CATEGORIES:Aspiranten,BMX,Miniemen
END:VEVENT
BEGIN:VEVENT
DTSTART;TZID=Europe/Brussels:20211109T183000
DTEND;TZID=Europe/Brussels:20211109T193000
DTSTAMP:20260420T213829
CREATED:20211014T193030Z
LAST-MODIFIED:20211014T193030Z
UID:10000444-1636482600-1636486200@www.kvc-meetjesland.be
SUMMARY:Core Stability
DESCRIPTION:10 lessen van 1 uur
URL:https://www.kvc-meetjesland.be/evenement/core-stability/2021-11-09/
LOCATION:Sportcomplex Flabbaert\, Prinsengoeddreef 33\, Knesselare
CATEGORIES:Aspiranten,Miniemen,Nieuwelingen
END:VEVENT
BEGIN:VEVENT
DTSTART;TZID=Europe/Brussels:20211111T180000
DTEND;TZID=Europe/Brussels:20211111T190000
DTSTAMP:20260420T213829
CREATED:20211014T193806Z
LAST-MODIFIED:20211014T193806Z
UID:10000105-1636653600-1636657200@www.kvc-meetjesland.be
SUMMARY:Conditietraining
DESCRIPTION:10 lessen van 1 uur
URL:https://www.kvc-meetjesland.be/evenement/conditietraining/2021-11-11/
LOCATION:Sportcentrum Onderdaele\, Urselseweg 185a\, Ursel\, 9910\, België
CATEGORIES:Aspiranten,Junioren,Miniemen,Nieuwelingen
END:VEVENT
BEGIN:VEVENT
DTSTART;TZID=Europe/Brussels:20211113T190000
DTEND;TZID=Europe/Brussels:20211113T230000
DTSTAMP:20260420T213829
CREATED:20211014T192258Z
LAST-MODIFIED:20211108T110030Z
UID:10000442-1636830000-1636844400@www.kvc-meetjesland.be
SUMMARY:Clubfeest - geannuleerd
DESCRIPTION:Het clubfeest wordt gespreid over 2 momenten – zaterdagavond & zondagmiddag – om het met de grote groep toch voor iedereen veilig te houden. \nAfgelast wegens stijging aantal coronabesmettingen.
URL:https://www.kvc-meetjesland.be/evenement/clubfeest/
LOCATION:Gemeentelijk ontmoetingscentrum\, Kloosterstraat\, 42\, Knesselare\, 9910\, België
CATEGORIES:Aspiranten,Beloften,BMX,Junioren,Miniemen,Nieuwelingen
END:VEVENT
BEGIN:VEVENT
DTSTART;TZID=Europe/Brussels:20211114T120000
DTEND;TZID=Europe/Brussels:20211114T160000
DTSTAMP:20260420T213829
CREATED:20211014T192450Z
LAST-MODIFIED:20211108T105906Z
UID:10000443-1636891200-1636905600@www.kvc-meetjesland.be
SUMMARY:Clubfeest - geannuleerd
DESCRIPTION:Het clubfeest wordt gespreid over 2 momenten – zaterdagavond & zondagmiddag – om het met de grote groep toch voor iedereen veilig te houden. \nAfgelast wegens stijging aantal coronabesmettingen.
URL:https://www.kvc-meetjesland.be/evenement/clubfeest-2/
LOCATION:Gemeentelijk ontmoetingscentrum\, Kloosterstraat\, 42\, Knesselare\, 9910\, België
CATEGORIES:Aspiranten,Beloften,BMX,Junioren,Miniemen,Nieuwelingen
END:VEVENT
BEGIN:VEVENT
DTSTART;TZID=Europe/Brussels:20211116T183000
DTEND;TZID=Europe/Brussels:20211116T193000
DTSTAMP:20260420T213829
CREATED:20211014T193030Z
LAST-MODIFIED:20211014T193030Z
UID:10000445-1637087400-1637091000@www.kvc-meetjesland.be
SUMMARY:Core Stability
DESCRIPTION:10 lessen van 1 uur
URL:https://www.kvc-meetjesland.be/evenement/core-stability/2021-11-16/
LOCATION:Sportcomplex Flabbaert\, Prinsengoeddreef 33\, Knesselare
CATEGORIES:Aspiranten,Miniemen,Nieuwelingen
END:VEVENT
BEGIN:VEVENT
DTSTART;TZID=Europe/Brussels:20211118T180000
DTEND;TZID=Europe/Brussels:20211118T190000
DTSTAMP:20260420T213829
CREATED:20211014T193806Z
LAST-MODIFIED:20211014T193806Z
UID:10000106-1637258400-1637262000@www.kvc-meetjesland.be
SUMMARY:Conditietraining
DESCRIPTION:10 lessen van 1 uur
URL:https://www.kvc-meetjesland.be/evenement/conditietraining/2021-11-18/
LOCATION:Sportcentrum Onderdaele\, Urselseweg 185a\, Ursel\, 9910\, België
CATEGORIES:Aspiranten,Junioren,Miniemen,Nieuwelingen
END:VEVENT
BEGIN:VEVENT
DTSTART;TZID=Europe/Brussels:20211123T183000
DTEND;TZID=Europe/Brussels:20211123T193000
DTSTAMP:20260420T213829
CREATED:20211014T193030Z
LAST-MODIFIED:20211014T193030Z
UID:10000446-1637692200-1637695800@www.kvc-meetjesland.be
SUMMARY:Core Stability
DESCRIPTION:10 lessen van 1 uur
URL:https://www.kvc-meetjesland.be/evenement/core-stability/2021-11-23/
LOCATION:Sportcomplex Flabbaert\, Prinsengoeddreef 33\, Knesselare
CATEGORIES:Aspiranten,Miniemen,Nieuwelingen
END:VEVENT
BEGIN:VEVENT
DTSTART;TZID=Europe/Brussels:20211125T180000
DTEND;TZID=Europe/Brussels:20211125T190000
DTSTAMP:20260420T213829
CREATED:20211014T193806Z
LAST-MODIFIED:20211014T193806Z
UID:10000107-1637863200-1637866800@www.kvc-meetjesland.be
SUMMARY:Conditietraining
DESCRIPTION:10 lessen van 1 uur
URL:https://www.kvc-meetjesland.be/evenement/conditietraining/2021-11-25/
LOCATION:Sportcentrum Onderdaele\, Urselseweg 185a\, Ursel\, 9910\, België
CATEGORIES:Aspiranten,Junioren,Miniemen,Nieuwelingen
END:VEVENT
BEGIN:VEVENT
DTSTART;TZID=Europe/Brussels:20211130T183000
DTEND;TZID=Europe/Brussels:20211130T193000
DTSTAMP:20260420T213829
CREATED:20211014T193030Z
LAST-MODIFIED:20211014T193030Z
UID:10000447-1638297000-1638300600@www.kvc-meetjesland.be
SUMMARY:Core Stability
DESCRIPTION:10 lessen van 1 uur
URL:https://www.kvc-meetjesland.be/evenement/core-stability/2021-11-30/
LOCATION:Sportcomplex Flabbaert\, Prinsengoeddreef 33\, Knesselare
CATEGORIES:Aspiranten,Miniemen,Nieuwelingen
END:VEVENT
BEGIN:VEVENT
DTSTART;TZID=Europe/Brussels:20211202T180000
DTEND;TZID=Europe/Brussels:20211202T190000
DTSTAMP:20260420T213829
CREATED:20211014T193806Z
LAST-MODIFIED:20211014T193806Z
UID:10000108-1638468000-1638471600@www.kvc-meetjesland.be
SUMMARY:Conditietraining
DESCRIPTION:10 lessen van 1 uur
URL:https://www.kvc-meetjesland.be/evenement/conditietraining/2021-12-02/
LOCATION:Sportcentrum Onderdaele\, Urselseweg 185a\, Ursel\, 9910\, België
CATEGORIES:Aspiranten,Junioren,Miniemen,Nieuwelingen
END:VEVENT
BEGIN:VEVENT
DTSTART;TZID=Europe/Brussels:20211205T140000
DTEND;TZID=Europe/Brussels:20211205T160000
DTSTAMP:20260420T213829
CREATED:20211025T161752Z
LAST-MODIFIED:20211025T161752Z
UID:10000120-1638712800-1638720000@www.kvc-meetjesland.be
SUMMARY:Bosritje
DESCRIPTION:
URL:https://www.kvc-meetjesland.be/evenement/bosritje-2/
LOCATION:Maria – Aalter\, Sparhoekdreef\, Maria - Aalter\, 9880\, België
CATEGORIES:Aspiranten,Beloften,Miniemen
END:VEVENT
BEGIN:VEVENT
DTSTART;TZID=Europe/Brussels:20211207T183000
DTEND;TZID=Europe/Brussels:20211207T193000
DTSTAMP:20260420T213829
CREATED:20211014T193030Z
LAST-MODIFIED:20211014T193030Z
UID:10000448-1638901800-1638905400@www.kvc-meetjesland.be
SUMMARY:Core Stability
DESCRIPTION:10 lessen van 1 uur
URL:https://www.kvc-meetjesland.be/evenement/core-stability/2021-12-07/
LOCATION:Sportcomplex Flabbaert\, Prinsengoeddreef 33\, Knesselare
CATEGORIES:Aspiranten,Miniemen,Nieuwelingen
END:VEVENT
BEGIN:VEVENT
DTSTART;TZID=Europe/Brussels:20211209T180000
DTEND;TZID=Europe/Brussels:20211209T190000
DTSTAMP:20260420T213829
CREATED:20211014T193806Z
LAST-MODIFIED:20211014T193806Z
UID:10000109-1639072800-1639076400@www.kvc-meetjesland.be
SUMMARY:Conditietraining
DESCRIPTION:10 lessen van 1 uur
URL:https://www.kvc-meetjesland.be/evenement/conditietraining/2021-12-09/
LOCATION:Sportcentrum Onderdaele\, Urselseweg 185a\, Ursel\, 9910\, België
CATEGORIES:Aspiranten,Junioren,Miniemen,Nieuwelingen
END:VEVENT
BEGIN:VEVENT
DTSTART;TZID=Europe/Brussels:20211210T190000
DTEND;TZID=Europe/Brussels:20211210T210000
DTSTAMP:20260420T213829
CREATED:20211122T214519Z
LAST-MODIFIED:20211122T214519Z
UID:10000423-1639162800-1639170000@www.kvc-meetjesland.be
SUMMARY:Fietsonderhoud
DESCRIPTION:
URL:https://www.kvc-meetjesland.be/evenement/fietsonderhoud/
LOCATION:Touvelo\, Belzele dorp 2\, Evergem\, Oost-Vlaanderen\, 9940\, België
CATEGORIES:Aspiranten,Beloften,Junioren,Miniemen,Nieuwelingen
END:VEVENT
BEGIN:VEVENT
DTSTART;TZID=Europe/Brussels:20211214T183000
DTEND;TZID=Europe/Brussels:20211214T193000
DTSTAMP:20260420T213829
CREATED:20211014T193030Z
LAST-MODIFIED:20211014T193030Z
UID:10000449-1639506600-1639510200@www.kvc-meetjesland.be
SUMMARY:Core Stability
DESCRIPTION:10 lessen van 1 uur
URL:https://www.kvc-meetjesland.be/evenement/core-stability/2021-12-14/
LOCATION:Sportcomplex Flabbaert\, Prinsengoeddreef 33\, Knesselare
CATEGORIES:Aspiranten,Miniemen,Nieuwelingen
END:VEVENT
BEGIN:VEVENT
DTSTART;TZID=Europe/Brussels:20211216T180000
DTEND;TZID=Europe/Brussels:20211216T190000
DTSTAMP:20260420T213829
CREATED:20211014T193806Z
LAST-MODIFIED:20211014T193806Z
UID:10000110-1639677600-1639681200@www.kvc-meetjesland.be
SUMMARY:Conditietraining
DESCRIPTION:10 lessen van 1 uur
URL:https://www.kvc-meetjesland.be/evenement/conditietraining/2021-12-16/
LOCATION:Sportcentrum Onderdaele\, Urselseweg 185a\, Ursel\, 9910\, België
CATEGORIES:Aspiranten,Junioren,Miniemen,Nieuwelingen
END:VEVENT
BEGIN:VEVENT
DTSTART;TZID=Europe/Brussels:20211221T183000
DTEND;TZID=Europe/Brussels:20211221T193000
DTSTAMP:20260420T213829
CREATED:20211014T193030Z
LAST-MODIFIED:20211014T193030Z
UID:10000450-1640111400-1640115000@www.kvc-meetjesland.be
SUMMARY:Core Stability
DESCRIPTION:10 lessen van 1 uur
URL:https://www.kvc-meetjesland.be/evenement/core-stability/2021-12-21/
LOCATION:Sportcomplex Flabbaert\, Prinsengoeddreef 33\, Knesselare
CATEGORIES:Aspiranten,Miniemen,Nieuwelingen
END:VEVENT
BEGIN:VEVENT
DTSTART;TZID=Europe/Brussels:20211223T180000
DTEND;TZID=Europe/Brussels:20211223T190000
DTSTAMP:20260420T213829
CREATED:20211014T193806Z
LAST-MODIFIED:20211014T193806Z
UID:10000111-1640282400-1640286000@www.kvc-meetjesland.be
SUMMARY:Conditietraining
DESCRIPTION:10 lessen van 1 uur
URL:https://www.kvc-meetjesland.be/evenement/conditietraining/2021-12-23/
LOCATION:Sportcentrum Onderdaele\, Urselseweg 185a\, Ursel\, 9910\, België
CATEGORIES:Aspiranten,Junioren,Miniemen,Nieuwelingen
END:VEVENT
END:VCALENDAR