BEGIN:VCALENDAR
VERSION:2.0
PRODID:-//KVC Meetjesland - ECPv6.15.20//NONSGML v1.0//EN
CALSCALE:GREGORIAN
METHOD:PUBLISH
X-WR-CALNAME:KVC Meetjesland
X-ORIGINAL-URL:https://www.kvc-meetjesland.be
X-WR-CALDESC:Evenementen voor KVC Meetjesland
REFRESH-INTERVAL;VALUE=DURATION:PT1H
X-Robots-Tag:noindex
X-PUBLISHED-TTL:PT1H
BEGIN:VTIMEZONE
TZID:Europe/Brussels
BEGIN:DAYLIGHT
TZOFFSETFROM:+0100
TZOFFSETTO:+0200
TZNAME:CEST
DTSTART:20200329T010000
END:DAYLIGHT
BEGIN:STANDARD
TZOFFSETFROM:+0200
TZOFFSETTO:+0100
TZNAME:CET
DTSTART:20201025T010000
END:STANDARD
BEGIN:DAYLIGHT
TZOFFSETFROM:+0100
TZOFFSETTO:+0200
TZNAME:CEST
DTSTART:20210328T010000
END:DAYLIGHT
BEGIN:STANDARD
TZOFFSETFROM:+0200
TZOFFSETTO:+0100
TZNAME:CET
DTSTART:20211031T010000
END:STANDARD
BEGIN:DAYLIGHT
TZOFFSETFROM:+0100
TZOFFSETTO:+0200
TZNAME:CEST
DTSTART:20220327T010000
END:DAYLIGHT
BEGIN:STANDARD
TZOFFSETFROM:+0200
TZOFFSETTO:+0100
TZNAME:CET
DTSTART:20221030T010000
END:STANDARD
BEGIN:DAYLIGHT
TZOFFSETFROM:+0100
TZOFFSETTO:+0200
TZNAME:CEST
DTSTART:20230326T010000
END:DAYLIGHT
BEGIN:STANDARD
TZOFFSETFROM:+0200
TZOFFSETTO:+0100
TZNAME:CET
DTSTART:20231029T010000
END:STANDARD
END:VTIMEZONE
BEGIN:VEVENT
DTSTART;TZID=Europe/Brussels:20211116T183000
DTEND;TZID=Europe/Brussels:20211116T193000
DTSTAMP:20260420T051429
CREATED:20211014T193030Z
LAST-MODIFIED:20211014T193030Z
UID:10000445-1637087400-1637091000@www.kvc-meetjesland.be
SUMMARY:Core Stability
DESCRIPTION:10 lessen van 1 uur
URL:https://www.kvc-meetjesland.be/evenement/core-stability/2021-11-16/
LOCATION:Sportcomplex Flabbaert\, Prinsengoeddreef 33\, Knesselare
CATEGORIES:Aspiranten,Miniemen,Nieuwelingen
END:VEVENT
BEGIN:VEVENT
DTSTART;TZID=Europe/Brussels:20211118T180000
DTEND;TZID=Europe/Brussels:20211118T190000
DTSTAMP:20260420T051429
CREATED:20211014T193806Z
LAST-MODIFIED:20211014T193806Z
UID:10000106-1637258400-1637262000@www.kvc-meetjesland.be
SUMMARY:Conditietraining
DESCRIPTION:10 lessen van 1 uur
URL:https://www.kvc-meetjesland.be/evenement/conditietraining/2021-11-18/
LOCATION:Sportcentrum Onderdaele\, Urselseweg 185a\, Ursel\, 9910\, België
CATEGORIES:Aspiranten,Junioren,Miniemen,Nieuwelingen
END:VEVENT
BEGIN:VEVENT
DTSTART;TZID=Europe/Brussels:20211123T183000
DTEND;TZID=Europe/Brussels:20211123T193000
DTSTAMP:20260420T051429
CREATED:20211014T193030Z
LAST-MODIFIED:20211014T193030Z
UID:10000446-1637692200-1637695800@www.kvc-meetjesland.be
SUMMARY:Core Stability
DESCRIPTION:10 lessen van 1 uur
URL:https://www.kvc-meetjesland.be/evenement/core-stability/2021-11-23/
LOCATION:Sportcomplex Flabbaert\, Prinsengoeddreef 33\, Knesselare
CATEGORIES:Aspiranten,Miniemen,Nieuwelingen
END:VEVENT
BEGIN:VEVENT
DTSTART;TZID=Europe/Brussels:20211125T180000
DTEND;TZID=Europe/Brussels:20211125T190000
DTSTAMP:20260420T051429
CREATED:20211014T193806Z
LAST-MODIFIED:20211014T193806Z
UID:10000107-1637863200-1637866800@www.kvc-meetjesland.be
SUMMARY:Conditietraining
DESCRIPTION:10 lessen van 1 uur
URL:https://www.kvc-meetjesland.be/evenement/conditietraining/2021-11-25/
LOCATION:Sportcentrum Onderdaele\, Urselseweg 185a\, Ursel\, 9910\, België
CATEGORIES:Aspiranten,Junioren,Miniemen,Nieuwelingen
END:VEVENT
BEGIN:VEVENT
DTSTART;TZID=Europe/Brussels:20211130T183000
DTEND;TZID=Europe/Brussels:20211130T193000
DTSTAMP:20260420T051429
CREATED:20211014T193030Z
LAST-MODIFIED:20211014T193030Z
UID:10000447-1638297000-1638300600@www.kvc-meetjesland.be
SUMMARY:Core Stability
DESCRIPTION:10 lessen van 1 uur
URL:https://www.kvc-meetjesland.be/evenement/core-stability/2021-11-30/
LOCATION:Sportcomplex Flabbaert\, Prinsengoeddreef 33\, Knesselare
CATEGORIES:Aspiranten,Miniemen,Nieuwelingen
END:VEVENT
BEGIN:VEVENT
DTSTART;TZID=Europe/Brussels:20211202T180000
DTEND;TZID=Europe/Brussels:20211202T190000
DTSTAMP:20260420T051429
CREATED:20211014T193806Z
LAST-MODIFIED:20211014T193806Z
UID:10000108-1638468000-1638471600@www.kvc-meetjesland.be
SUMMARY:Conditietraining
DESCRIPTION:10 lessen van 1 uur
URL:https://www.kvc-meetjesland.be/evenement/conditietraining/2021-12-02/
LOCATION:Sportcentrum Onderdaele\, Urselseweg 185a\, Ursel\, 9910\, België
CATEGORIES:Aspiranten,Junioren,Miniemen,Nieuwelingen
END:VEVENT
BEGIN:VEVENT
DTSTART;TZID=Europe/Brussels:20211205T140000
DTEND;TZID=Europe/Brussels:20211205T160000
DTSTAMP:20260420T051429
CREATED:20211025T161752Z
LAST-MODIFIED:20211025T161752Z
UID:10000120-1638712800-1638720000@www.kvc-meetjesland.be
SUMMARY:Bosritje
DESCRIPTION:
URL:https://www.kvc-meetjesland.be/evenement/bosritje-2/
LOCATION:Maria – Aalter\, Sparhoekdreef\, Maria - Aalter\, 9880\, België
CATEGORIES:Aspiranten,Beloften,Miniemen
END:VEVENT
BEGIN:VEVENT
DTSTART;TZID=Europe/Brussels:20211207T183000
DTEND;TZID=Europe/Brussels:20211207T193000
DTSTAMP:20260420T051429
CREATED:20211014T193030Z
LAST-MODIFIED:20211014T193030Z
UID:10000448-1638901800-1638905400@www.kvc-meetjesland.be
SUMMARY:Core Stability
DESCRIPTION:10 lessen van 1 uur
URL:https://www.kvc-meetjesland.be/evenement/core-stability/2021-12-07/
LOCATION:Sportcomplex Flabbaert\, Prinsengoeddreef 33\, Knesselare
CATEGORIES:Aspiranten,Miniemen,Nieuwelingen
END:VEVENT
BEGIN:VEVENT
DTSTART;TZID=Europe/Brussels:20211209T180000
DTEND;TZID=Europe/Brussels:20211209T190000
DTSTAMP:20260420T051429
CREATED:20211014T193806Z
LAST-MODIFIED:20211014T193806Z
UID:10000109-1639072800-1639076400@www.kvc-meetjesland.be
SUMMARY:Conditietraining
DESCRIPTION:10 lessen van 1 uur
URL:https://www.kvc-meetjesland.be/evenement/conditietraining/2021-12-09/
LOCATION:Sportcentrum Onderdaele\, Urselseweg 185a\, Ursel\, 9910\, België
CATEGORIES:Aspiranten,Junioren,Miniemen,Nieuwelingen
END:VEVENT
BEGIN:VEVENT
DTSTART;TZID=Europe/Brussels:20211210T190000
DTEND;TZID=Europe/Brussels:20211210T210000
DTSTAMP:20260420T051429
CREATED:20211122T214519Z
LAST-MODIFIED:20211122T214519Z
UID:10000423-1639162800-1639170000@www.kvc-meetjesland.be
SUMMARY:Fietsonderhoud
DESCRIPTION:
URL:https://www.kvc-meetjesland.be/evenement/fietsonderhoud/
LOCATION:Touvelo\, Belzele dorp 2\, Evergem\, Oost-Vlaanderen\, 9940\, België
CATEGORIES:Aspiranten,Beloften,Junioren,Miniemen,Nieuwelingen
END:VEVENT
BEGIN:VEVENT
DTSTART;TZID=Europe/Brussels:20211214T183000
DTEND;TZID=Europe/Brussels:20211214T193000
DTSTAMP:20260420T051429
CREATED:20211014T193030Z
LAST-MODIFIED:20211014T193030Z
UID:10000449-1639506600-1639510200@www.kvc-meetjesland.be
SUMMARY:Core Stability
DESCRIPTION:10 lessen van 1 uur
URL:https://www.kvc-meetjesland.be/evenement/core-stability/2021-12-14/
LOCATION:Sportcomplex Flabbaert\, Prinsengoeddreef 33\, Knesselare
CATEGORIES:Aspiranten,Miniemen,Nieuwelingen
END:VEVENT
BEGIN:VEVENT
DTSTART;TZID=Europe/Brussels:20211216T180000
DTEND;TZID=Europe/Brussels:20211216T190000
DTSTAMP:20260420T051429
CREATED:20211014T193806Z
LAST-MODIFIED:20211014T193806Z
UID:10000110-1639677600-1639681200@www.kvc-meetjesland.be
SUMMARY:Conditietraining
DESCRIPTION:10 lessen van 1 uur
URL:https://www.kvc-meetjesland.be/evenement/conditietraining/2021-12-16/
LOCATION:Sportcentrum Onderdaele\, Urselseweg 185a\, Ursel\, 9910\, België
CATEGORIES:Aspiranten,Junioren,Miniemen,Nieuwelingen
END:VEVENT
BEGIN:VEVENT
DTSTART;TZID=Europe/Brussels:20211221T183000
DTEND;TZID=Europe/Brussels:20211221T193000
DTSTAMP:20260420T051429
CREATED:20211014T193030Z
LAST-MODIFIED:20211014T193030Z
UID:10000450-1640111400-1640115000@www.kvc-meetjesland.be
SUMMARY:Core Stability
DESCRIPTION:10 lessen van 1 uur
URL:https://www.kvc-meetjesland.be/evenement/core-stability/2021-12-21/
LOCATION:Sportcomplex Flabbaert\, Prinsengoeddreef 33\, Knesselare
CATEGORIES:Aspiranten,Miniemen,Nieuwelingen
END:VEVENT
BEGIN:VEVENT
DTSTART;TZID=Europe/Brussels:20211223T180000
DTEND;TZID=Europe/Brussels:20211223T190000
DTSTAMP:20260420T051429
CREATED:20211014T193806Z
LAST-MODIFIED:20211014T193806Z
UID:10000111-1640282400-1640286000@www.kvc-meetjesland.be
SUMMARY:Conditietraining
DESCRIPTION:10 lessen van 1 uur
URL:https://www.kvc-meetjesland.be/evenement/conditietraining/2021-12-23/
LOCATION:Sportcentrum Onderdaele\, Urselseweg 185a\, Ursel\, 9910\, België
CATEGORIES:Aspiranten,Junioren,Miniemen,Nieuwelingen
END:VEVENT
BEGIN:VEVENT
DTSTART;TZID=Europe/Brussels:20211229T143000
DTEND;TZID=Europe/Brussels:20211229T160000
DTSTAMP:20260420T051429
CREATED:20211224T162257Z
LAST-MODIFIED:20211224T162257Z
UID:10000459-1640788200-1640793600@www.kvc-meetjesland.be
SUMMARY:Cyclocross training
DESCRIPTION:
URL:https://www.kvc-meetjesland.be/evenement/cyclocross-training-2/
LOCATION:Sportpark Droogenbrood\, Wellingstraat 29a\, Beernem\, West-Vlaanderen\, 8730\, België
CATEGORIES:Aspiranten,Miniemen
END:VEVENT
BEGIN:VEVENT
DTSTART;TZID=Europe/Brussels:20211229T143000
DTEND;TZID=Europe/Brussels:20211229T160000
DTSTAMP:20260420T051429
CREATED:20211230T114150Z
LAST-MODIFIED:20211230T114150Z
UID:10000461-1640788200-1640793600@www.kvc-meetjesland.be
SUMMARY:Cyclocross training
DESCRIPTION:
URL:https://www.kvc-meetjesland.be/evenement/cyclocross-training-4/
LOCATION:Sportpark Droogenbrood\, Wellingstraat 29a\, Beernem\, West-Vlaanderen\, 8730\, België
CATEGORIES:Aspiranten,Miniemen
END:VEVENT
BEGIN:VEVENT
DTSTART;TZID=Europe/Brussels:20220105T143000
DTEND;TZID=Europe/Brussels:20220105T160000
DTSTAMP:20260420T051429
CREATED:20220108T211608Z
LAST-MODIFIED:20220118T105755Z
UID:10000462-1641393000-1641398400@www.kvc-meetjesland.be
SUMMARY:Wegtraining VWS
DESCRIPTION:
URL:https://www.kvc-meetjesland.be/evenement/wegtraining-18/
LOCATION:Sportcomplex Flabbaert\, Prinsengoeddreef 33\, Knesselare
CATEGORIES:Beloften,Junioren,Miniemen
END:VEVENT
BEGIN:VEVENT
DTSTART;TZID=Europe/Brussels:20220111T183000
DTEND;TZID=Europe/Brussels:20220111T193000
DTSTAMP:20260420T051429
CREATED:20211014T193326Z
LAST-MODIFIED:20220114T094130Z
UID:10000451-1641925800-1641929400@www.kvc-meetjesland.be
SUMMARY:Core stability
DESCRIPTION:10 lessen van 1 uur: deze avond werd verplaatst naar dinsdag 1 februari
URL:https://www.kvc-meetjesland.be/evenement/core-stability-2/2022-01-11/
LOCATION:Sportcomplex Flabbaert\, Prinsengoeddreef 33\, Knesselare
CATEGORIES:Aspiranten,Miniemen,Nieuwelingen
END:VEVENT
BEGIN:VEVENT
DTSTART;TZID=Europe/Brussels:20220113T180000
DTEND;TZID=Europe/Brussels:20220113T190000
DTSTAMP:20260420T051429
CREATED:20211014T194103Z
LAST-MODIFIED:20211014T194103Z
UID:10000112-1642096800-1642100400@www.kvc-meetjesland.be
SUMMARY:Conditietraining
DESCRIPTION:10 lessen van 1 uur
URL:https://www.kvc-meetjesland.be/evenement/conditietraining-2/2022-01-13/
LOCATION:Sportcentrum Onderdaele\, Urselseweg 185a\, Ursel\, 9910\, België
CATEGORIES:Aspiranten,Junioren,Miniemen,Nieuwelingen
END:VEVENT
BEGIN:VEVENT
DTSTART;TZID=Europe/Brussels:20220118T183000
DTEND;TZID=Europe/Brussels:20220118T193000
DTSTAMP:20260420T051429
CREATED:20211014T193326Z
LAST-MODIFIED:20220114T094130Z
UID:10000452-1642530600-1642534200@www.kvc-meetjesland.be
SUMMARY:Core stability
DESCRIPTION:10 lessen van 1 uur: deze avond werd verplaatst naar dinsdag 1 februari
URL:https://www.kvc-meetjesland.be/evenement/core-stability-2/2022-01-18/
LOCATION:Sportcomplex Flabbaert\, Prinsengoeddreef 33\, Knesselare
CATEGORIES:Aspiranten,Miniemen,Nieuwelingen
END:VEVENT
BEGIN:VEVENT
DTSTART;TZID=Europe/Brussels:20220120T180000
DTEND;TZID=Europe/Brussels:20220120T190000
DTSTAMP:20260420T051429
CREATED:20211014T194103Z
LAST-MODIFIED:20211014T194103Z
UID:10000113-1642701600-1642705200@www.kvc-meetjesland.be
SUMMARY:Conditietraining
DESCRIPTION:10 lessen van 1 uur
URL:https://www.kvc-meetjesland.be/evenement/conditietraining-2/2022-01-20/
LOCATION:Sportcentrum Onderdaele\, Urselseweg 185a\, Ursel\, 9910\, België
CATEGORIES:Aspiranten,Junioren,Miniemen,Nieuwelingen
END:VEVENT
BEGIN:VEVENT
DTSTART;TZID=Europe/Brussels:20220125T183000
DTEND;TZID=Europe/Brussels:20220125T193000
DTSTAMP:20260420T051429
CREATED:20211014T193326Z
LAST-MODIFIED:20220114T094130Z
UID:10000453-1643135400-1643139000@www.kvc-meetjesland.be
SUMMARY:Core stability
DESCRIPTION:10 lessen van 1 uur: deze avond werd verplaatst naar dinsdag 1 februari
URL:https://www.kvc-meetjesland.be/evenement/core-stability-2/2022-01-25/
LOCATION:Sportcomplex Flabbaert\, Prinsengoeddreef 33\, Knesselare
CATEGORIES:Aspiranten,Miniemen,Nieuwelingen
END:VEVENT
BEGIN:VEVENT
DTSTART;TZID=Europe/Brussels:20220127T180000
DTEND;TZID=Europe/Brussels:20220127T190000
DTSTAMP:20260420T051429
CREATED:20211014T194103Z
LAST-MODIFIED:20211014T194103Z
UID:10000114-1643306400-1643310000@www.kvc-meetjesland.be
SUMMARY:Conditietraining
DESCRIPTION:10 lessen van 1 uur
URL:https://www.kvc-meetjesland.be/evenement/conditietraining-2/2022-01-27/
LOCATION:Sportcentrum Onderdaele\, Urselseweg 185a\, Ursel\, 9910\, België
CATEGORIES:Aspiranten,Junioren,Miniemen,Nieuwelingen
END:VEVENT
BEGIN:VEVENT
DTSTART;TZID=Europe/Brussels:20220130T140000
DTEND;TZID=Europe/Brussels:20220130T160000
DTSTAMP:20260420T051429
CREATED:20211223T095152Z
LAST-MODIFIED:20211223T095152Z
UID:10000456-1643551200-1643558400@www.kvc-meetjesland.be
SUMMARY:Bosritje
DESCRIPTION:Bosritje voor de jongsten – locatie wordt nog meegedeeld
URL:https://www.kvc-meetjesland.be/evenement/bosritje-3/
CATEGORIES:BMX,Miniemen
END:VEVENT
BEGIN:VEVENT
DTSTART;TZID=Europe/Brussels:20220201T183000
DTEND;TZID=Europe/Brussels:20220201T193000
DTSTAMP:20260420T051429
CREATED:20220114T094033Z
LAST-MODIFIED:20220114T094033Z
UID:10000128-1643740200-1643743800@www.kvc-meetjesland.be
SUMMARY:Core stability
DESCRIPTION:Uitgestelde les van 11 januari
URL:https://www.kvc-meetjesland.be/evenement/core-stability-3/
LOCATION:Sportcomplex Flabbaert\, Prinsengoeddreef 33\, Knesselare
CATEGORIES:Aspiranten,Miniemen,Nieuwelingen
END:VEVENT
BEGIN:VEVENT
DTSTART;TZID=Europe/Brussels:20220227T140000
DTEND;TZID=Europe/Brussels:20220227T160000
DTSTAMP:20260420T051429
CREATED:20211223T095329Z
LAST-MODIFIED:20220225T090146Z
UID:10000458-1645970400-1645977600@www.kvc-meetjesland.be
SUMMARY:Bosritje
DESCRIPTION:Bosritje voor de jongsten: door de weersomstandigheden – storm & regen -terug in Maria Aalter
URL:https://www.kvc-meetjesland.be/evenement/bosritje-4/
LOCATION:Maria – Aalter\, Sparhoekdreef\, Maria - Aalter\, 9880\, België
CATEGORIES:BMX,Miniemen
END:VEVENT
BEGIN:VEVENT
DTSTART;TZID=Europe/Brussels:20220306T093000
DTEND;TZID=Europe/Brussels:20220306T113000
DTSTAMP:20260420T051429
CREATED:20220207T105804Z
LAST-MODIFIED:20220207T105804Z
UID:10000139-1646559000-1646566200@www.kvc-meetjesland.be
SUMMARY:Wegtraining VWS Regio Meetjesland
DESCRIPTION:
URL:https://www.kvc-meetjesland.be/evenement/wegtraining-vws-regio-meetjesland-14/2022-03-06/
LOCATION:Sportcomplex Flabbaert\, Prinsengoeddreef 33\, Knesselare
CATEGORIES:Aspiranten,Miniemen
END:VEVENT
BEGIN:VEVENT
DTSTART;TZID=Europe/Brussels:20220313T093000
DTEND;TZID=Europe/Brussels:20220313T113000
DTSTAMP:20260420T051429
CREATED:20220207T105804Z
LAST-MODIFIED:20220207T105804Z
UID:10000140-1647163800-1647171000@www.kvc-meetjesland.be
SUMMARY:Wegtraining VWS Regio Meetjesland
DESCRIPTION:
URL:https://www.kvc-meetjesland.be/evenement/wegtraining-vws-regio-meetjesland-14/2022-03-13/
LOCATION:Sportcomplex Flabbaert\, Prinsengoeddreef 33\, Knesselare
CATEGORIES:Aspiranten,Miniemen
END:VEVENT
BEGIN:VEVENT
DTSTART;TZID=Europe/Brussels:20220320T093000
DTEND;TZID=Europe/Brussels:20220320T113000
DTSTAMP:20260420T051429
CREATED:20220207T105804Z
LAST-MODIFIED:20220207T105804Z
UID:10000141-1647768600-1647775800@www.kvc-meetjesland.be
SUMMARY:Wegtraining VWS Regio Meetjesland
DESCRIPTION:
URL:https://www.kvc-meetjesland.be/evenement/wegtraining-vws-regio-meetjesland-14/2022-03-20/
LOCATION:Sportcomplex Flabbaert\, Prinsengoeddreef 33\, Knesselare
CATEGORIES:Aspiranten,Miniemen
END:VEVENT
BEGIN:VEVENT
DTSTART;TZID=Europe/Brussels:20220327T093000
DTEND;TZID=Europe/Brussels:20220327T113000
DTSTAMP:20260420T051429
CREATED:20220207T105804Z
LAST-MODIFIED:20220207T105804Z
UID:10000142-1648373400-1648380600@www.kvc-meetjesland.be
SUMMARY:Wegtraining VWS Regio Meetjesland
DESCRIPTION:
URL:https://www.kvc-meetjesland.be/evenement/wegtraining-vws-regio-meetjesland-14/2022-03-27/
LOCATION:Sportcomplex Flabbaert\, Prinsengoeddreef 33\, Knesselare
CATEGORIES:Aspiranten,Miniemen
END:VEVENT
END:VCALENDAR